
BEGIN:VCALENDAR
VERSION:2.0
PRODID:-//217.160.0.117//NONSGML kigkonsult.se iCalcreator 2.20//
CALSCALE:GREGORIAN
METHOD:PUBLISH
X-WR-TIMEZONE:UTC
BEGIN:VEVENT
UID:event11@Cafè Land Genuss in der Kakushöhle
DTSTAMP:20260420T041559Z
CATEGORIES:Veranstaltung
DESCRIPTION:Konzert der Original Feytal Kutscher\nKategorie: Veranstaltung
 \nICS-Link: https://cafe-land-genuss.de/index.php?option=com_jem&view=even
 t&id=11:konzert-der-original-feytal-kutscher\n
DTSTART:20240602T143000Z
DTEND:20240602T143000Z
LOCATION:Kakushöhle
SUMMARY:Konzert der Original Feytal Kutscher
URL:https://cafe-land-genuss.de/index.php?option=com_jem&view=event&id=11:k
 onzert-der-original-feytal-kutscher
END:VEVENT
END:VCALENDAR
