
BEGIN:VCALENDAR
VERSION:2.0
PRODID:-//217.160.0.117//NONSGML kigkonsult.se iCalcreator 2.20//
CALSCALE:GREGORIAN
METHOD:PUBLISH
X-WR-TIMEZONE:UTC
BEGIN:VEVENT
UID:event1@Cafè Land Genuss in der Kakushöhle
DTSTAMP:20260420T053502Z
CATEGORIES:Aktionstage
DESCRIPTION:Schnitzelabend\nKategorie: Aktionstage\nICS-Link: https://cafe-
 land-genuss.de/index.php?option=com_jem&view=event&id=1:schnitzelabend\n
DTSTART:20240607T170000Z
DTEND:20240607T170000Z
LOCATION:Café Land Genuss
SUMMARY:Schnitzelabend
URL:https://cafe-land-genuss.de/index.php?option=com_jem&view=event&id=1:sc
 hnitzelabend
END:VEVENT
END:VCALENDAR
