
BEGIN:VCALENDAR
VERSION:2.0
PRODID:-//217.160.0.117//NONSGML kigkonsult.se iCalcreator 2.20//
CALSCALE:GREGORIAN
METHOD:PUBLISH
X-WR-TIMEZONE:UTC
BEGIN:VEVENT
UID:event2@Cafè Land Genuss in der Kakushöhle
DTSTAMP:20260420T041559Z
CATEGORIES:Veranstaltung
DESCRIPTION:Weihnachtsmarkt an der Kakushöhle\nKategorie: Veranstaltung\nIC
 S-Link: https://cafe-land-genuss.de/index.php?option=com_jem&view=event&id
 =2:weihnachtsmarkt-an-der-kakushoehle\n
DTSTART;VALUE=DATE:20241130
DTEND;VALUE=DATE:20241202
LOCATION:Kakushöhle
SUMMARY:Weihnachtsmarkt an der Kakushöhle
URL:https://cafe-land-genuss.de/index.php?option=com_jem&view=event&id=2:we
 ihnachtsmarkt-an-der-kakushoehle
END:VEVENT
END:VCALENDAR
