
BEGIN:VCALENDAR
VERSION:2.0
PRODID:-//217.160.0.117//NONSGML kigkonsult.se iCalcreator 2.20//
CALSCALE:GREGORIAN
METHOD:PUBLISH
X-WR-TIMEZONE:UTC
BEGIN:VEVENT
UID:event4@Cafè Land Genuss in der Kakushöhle
DTSTAMP:20260420T053745Z
CATEGORIES:Aktionstage
DESCRIPTION:Angebot - Schlachtfrisches Rindfleisch\nKategorie: Aktionstage
 \nICS-Link: https://cafe-land-genuss.de/index.php?option=com_jem&view=even
 t&id=4:angebot-schlachtfrisches-rindfleisch\n
DTSTART;VALUE=DATE:20240405
DTEND;VALUE=DATE:20240406
LOCATION:Café Land Genuss
SUMMARY:Angebot - Schlachtfrisches Rindfleisch
URL:https://cafe-land-genuss.de/index.php?option=com_jem&view=event&id=4:an
 gebot-schlachtfrisches-rindfleisch
END:VEVENT
END:VCALENDAR
