
BEGIN:VCALENDAR
VERSION:2.0
PRODID:-//217.160.0.117//NONSGML kigkonsult.se iCalcreator 2.20//
CALSCALE:GREGORIAN
METHOD:PUBLISH
X-WR-TIMEZONE:UTC
BEGIN:VEVENT
UID:event5@Cafè Land Genuss in der Kakushöhle
DTSTAMP:20260420T053750Z
CATEGORIES:Aktionstage
DESCRIPTION:Obst und Gemüse aus der Region\nKategorie: Aktionstage\nICS-Lin
 k: https://cafe-land-genuss.de/index.php?option=com_jem&view=event&id=5:ob
 st-und-gemuese-aus-der-region\n
DTSTART;VALUE=DATE:20240301
DTEND;VALUE=DATE:20241101
LOCATION:Café Land Genuss
SUMMARY:Obst und Gemüse aus der Region
URL:https://cafe-land-genuss.de/index.php?option=com_jem&view=event&id=5:ob
 st-und-gemuese-aus-der-region
END:VEVENT
END:VCALENDAR
